BEGIN:VCALENDAR
VERSION:2.0
PRODID:-//eventon.com NONSGML v1.0//EN
BEGIN:VEVENT
UID:69e5ede523895
DTSTAMP:20260420T081205
DTSTART:20220212T203000Z
DTEND:20220213T005000Z
LOCATION:
SUMMARY:TOTAL STONE ROSES
DESCRIPTION: THE UK’S BEST STONE ROSES TRIBUTE RETURNS TO THE STAGE AFTER A BRIEF 24 MONTH\,  COVID-INDUCED HIATUS. IF YOU LOVE I AM THE RESURRECTION\,  MADE OF STONE\,  FOOLS GOLD\,  WATERFALL\,  SHE BANGS THE DRUMS AND MANY MORE THEN DO NOT MISS THIS EXCLUSIVE OPPORTUNITY TO HEAR YOUR FAVOURITE STONE ROSES[..]
END:VEVENT
END:VCALENDAR