BEGIN:VCALENDAR
VERSION:2.0
PRODID:-//eventon.com NONSGML v1.0//EN
BEGIN:VEVENT
UID:69e88f7028b04
DTSTAMP:20260422T080552
DTSTART:20231007T203000Z
DTEND:20231008T005000Z
LOCATION:
SUMMARY:The Liquid Engineers - The Gary Numan Tribute
DESCRIPTION: Gary Numan has been cited as a major influence on acts such as Nine Inch Nails to Prince\, his music has been covered by acts from Beck\, Blur\,  Basement Jaxx\,  Africa Bambatta Marilyn Manson\, Little Boots and many more. Standing within the smoke and haze effects and with the light show transporting you[..]
END:VEVENT
END:VCALENDAR