BEGIN:VCALENDAR
VERSION:2.0
PRODID:-//eventon.com NONSGML v1.0//EN
BEGIN:VEVENT
UID:69e8911223437
DTSTAMP:20260422T081250
DTSTART:20170511T200000Z
DTEND:20170512T004000Z
LOCATION:
SUMMARY:Ladies of the Blues
DESCRIPTION: GABRIELLA JONES Gabriella Jones is a singer songwriter from Birmingham UK. She has played the Wireless Festival and Hard Rock Calling Festivals in Hyde Park along with the Isle of Wight Festival. The blues/rock singer has already supported massive acts like Bon Jovi and Slash at festivals and played at the LG[..]
END:VEVENT
END:VCALENDAR